BEGIN:VCALENDAR
VERSION:2.0
PRODID:-//Bauernmuseum Osterwald - ECPv6.15.20//NONSGML v1.0//EN
CALSCALE:GREGORIAN
METHOD:PUBLISH
X-ORIGINAL-URL:https://bauernmuseum-osterwald.de
X-WR-CALDESC:Veranstaltungen für Bauernmuseum Osterwald
REFRESH-INTERVAL;VALUE=DURATION:PT1H
X-Robots-Tag:noindex
X-PUBLISHED-TTL:PT1H
BEGIN:VTIMEZONE
TZID:Europe/Berlin
BEGIN:DAYLIGHT
TZOFFSETFROM:+0100
TZOFFSETTO:+0200
TZNAME:CEST
DTSTART:20250330T010000
END:DAYLIGHT
BEGIN:STANDARD
TZOFFSETFROM:+0200
TZOFFSETTO:+0100
TZNAME:CET
DTSTART:20251026T010000
END:STANDARD
BEGIN:DAYLIGHT
TZOFFSETFROM:+0100
TZOFFSETTO:+0200
TZNAME:CEST
DTSTART:20260329T010000
END:DAYLIGHT
BEGIN:STANDARD
TZOFFSETFROM:+0200
TZOFFSETTO:+0100
TZNAME:CET
DTSTART:20261025T010000
END:STANDARD
BEGIN:DAYLIGHT
TZOFFSETFROM:+0100
TZOFFSETTO:+0200
TZNAME:CEST
DTSTART:20270328T010000
END:DAYLIGHT
BEGIN:STANDARD
TZOFFSETFROM:+0200
TZOFFSETTO:+0100
TZNAME:CET
DTSTART:20271031T010000
END:STANDARD
END:VTIMEZONE
BEGIN:VEVENT
DTSTART;TZID=Europe/Berlin:20260503T140000
DTEND;TZID=Europe/Berlin:20260503T170000
DTSTAMP:20260424T175045
CREATED:20251112T163206Z
LAST-MODIFIED:20251112T163206Z
UID:2508-1777816800-1777827600@bauernmuseum-osterwald.de
SUMMARY:Kaffee und Kuchen im Bauernmuseum.
DESCRIPTION:
URL:https://bauernmuseum-osterwald.de/event/kaffee-und-kuchen-im-bauernmuseum-2/
END:VEVENT
BEGIN:VEVENT
DTSTART;TZID=Europe/Berlin:20260607T140000
DTEND;TZID=Europe/Berlin:20260607T170000
DTSTAMP:20260424T175045
CREATED:20251112T163403Z
LAST-MODIFIED:20251112T163403Z
UID:2510-1780840800-1780851600@bauernmuseum-osterwald.de
SUMMARY:Kaffee und Kuchen im Bauernmuseum.
DESCRIPTION:
URL:https://bauernmuseum-osterwald.de/event/kaffee-und-kuchen-im-bauernmuseum-3/
END:VEVENT
BEGIN:VEVENT
DTSTART;TZID=Europe/Berlin:20260705T140000
DTEND;TZID=Europe/Berlin:20260705T170000
DTSTAMP:20260424T175045
CREATED:20251112T163454Z
LAST-MODIFIED:20251112T163454Z
UID:2512-1783260000-1783270800@bauernmuseum-osterwald.de
SUMMARY:Kaffee und Kuchen im Bauernmuseum.
DESCRIPTION:
URL:https://bauernmuseum-osterwald.de/event/kaffee-und-kuchen-im-bauernmuseum-4/
END:VEVENT
BEGIN:VEVENT
DTSTART;TZID=Europe/Berlin:20260802T140000
DTEND;TZID=Europe/Berlin:20260802T170000
DTSTAMP:20260424T175045
CREATED:20251112T163542Z
LAST-MODIFIED:20251112T163542Z
UID:2514-1785679200-1785690000@bauernmuseum-osterwald.de
SUMMARY:Kaffee und Kuchen im Bauernmuseum.
DESCRIPTION:
URL:https://bauernmuseum-osterwald.de/event/kaffee-und-kuchen-im-bauernmuseum-5/
END:VEVENT
BEGIN:VEVENT
DTSTART;TZID=Europe/Berlin:20260906T140000
DTEND;TZID=Europe/Berlin:20260906T170000
DTSTAMP:20260424T175045
CREATED:20251112T163613Z
LAST-MODIFIED:20251112T163613Z
UID:2516-1788703200-1788714000@bauernmuseum-osterwald.de
SUMMARY:Kaffee und Kuchen im Bauernmuseum.
DESCRIPTION:
URL:https://bauernmuseum-osterwald.de/event/kaffee-und-kuchen-im-bauernmuseum-6/
END:VEVENT
BEGIN:VEVENT
DTSTART;TZID=Europe/Berlin:20261004T140000
DTEND;TZID=Europe/Berlin:20261004T170000
DTSTAMP:20260424T175045
CREATED:20251112T163652Z
LAST-MODIFIED:20251112T163652Z
UID:2518-1791122400-1791133200@bauernmuseum-osterwald.de
SUMMARY:Kaffee und Kuchen im Bauernmuseum.
DESCRIPTION:
URL:https://bauernmuseum-osterwald.de/event/kaffee-und-kuchen-im-bauernmuseum-7/
END:VEVENT
BEGIN:VEVENT
DTSTART;TZID=Europe/Berlin:20261107T140000
DTEND;TZID=Europe/Berlin:20261107T210000
DTSTAMP:20260424T175045
CREATED:20260110T090101Z
LAST-MODIFIED:20260110T090101Z
UID:2566-1794060000-1794085200@bauernmuseum-osterwald.de
SUMMARY:Hüttenzauber
DESCRIPTION:
URL:https://bauernmuseum-osterwald.de/event/huettenzauber/
END:VEVENT
BEGIN:VEVENT
DTSTART;TZID=Europe/Berlin:20261108T140000
DTEND;TZID=Europe/Berlin:20261108T170000
DTSTAMP:20260424T175045
CREATED:20260110T091137Z
LAST-MODIFIED:20260110T091137Z
UID:2572-1794146400-1794157200@bauernmuseum-osterwald.de
SUMMARY:Kaffee im Bauernmuseum
DESCRIPTION:
URL:https://bauernmuseum-osterwald.de/event/kaffee-im-bauernmuseum/
END:VEVENT
BEGIN:VEVENT
DTSTART;TZID=Europe/Berlin:20261108T140000
DTEND;TZID=Europe/Berlin:20261108T210000
DTSTAMP:20260424T175045
CREATED:20260110T090302Z
LAST-MODIFIED:20260110T090302Z
UID:2568-1794146400-1794171600@bauernmuseum-osterwald.de
SUMMARY:Hüttenzauber
DESCRIPTION:
URL:https://bauernmuseum-osterwald.de/event/huettenzauber-2/
END:VEVENT
END:VCALENDAR